BEGIN:VCALENDAR
VERSION:2.0
PRODID:-//Mindful moms - ECPv6.15.20//NONSGML v1.0//EN
CALSCALE:GREGORIAN
METHOD:PUBLISH
X-WR-CALNAME:Mindful moms
X-ORIGINAL-URL:https://mindfulmummie.com
X-WR-CALDESC:Events for Mindful moms
REFRESH-INTERVAL;VALUE=DURATION:PT1H
X-Robots-Tag:noindex
X-PUBLISHED-TTL:PT1H
BEGIN:VTIMEZONE
TZID:UTC
BEGIN:STANDARD
TZOFFSETFROM:+0000
TZOFFSETTO:+0000
TZNAME:UTC
DTSTART:20240101T000000
END:STANDARD
END:VTIMEZONE
BEGIN:VTIMEZONE
TZID:Europe/Paris
BEGIN:DAYLIGHT
TZOFFSETFROM:+0100
TZOFFSETTO:+0200
TZNAME:CEST
DTSTART:20240331T010000
END:DAYLIGHT
BEGIN:STANDARD
TZOFFSETFROM:+0200
TZOFFSETTO:+0100
TZNAME:CET
DTSTART:20241027T010000
END:STANDARD
BEGIN:DAYLIGHT
TZOFFSETFROM:+0100
TZOFFSETTO:+0200
TZNAME:CEST
DTSTART:20250330T010000
END:DAYLIGHT
BEGIN:STANDARD
TZOFFSETFROM:+0200
TZOFFSETTO:+0100
TZNAME:CET
DTSTART:20251026T010000
END:STANDARD
BEGIN:DAYLIGHT
TZOFFSETFROM:+0100
TZOFFSETTO:+0200
TZNAME:CEST
DTSTART:20260329T010000
END:DAYLIGHT
BEGIN:STANDARD
TZOFFSETFROM:+0200
TZOFFSETTO:+0100
TZNAME:CET
DTSTART:20261025T010000
END:STANDARD
END:VTIMEZONE
BEGIN:VTIMEZONE
TZID:America/Halifax
BEGIN:DAYLIGHT
TZOFFSETFROM:-0400
TZOFFSETTO:-0300
TZNAME:ADT
DTSTART:20240310T060000
END:DAYLIGHT
BEGIN:STANDARD
TZOFFSETFROM:-0300
TZOFFSETTO:-0400
TZNAME:AST
DTSTART:20241103T050000
END:STANDARD
BEGIN:DAYLIGHT
TZOFFSETFROM:-0400
TZOFFSETTO:-0300
TZNAME:ADT
DTSTART:20250309T060000
END:DAYLIGHT
BEGIN:STANDARD
TZOFFSETFROM:-0300
TZOFFSETTO:-0400
TZNAME:AST
DTSTART:20251102T050000
END:STANDARD
BEGIN:DAYLIGHT
TZOFFSETFROM:-0400
TZOFFSETTO:-0300
TZNAME:ADT
DTSTART:20260308T060000
END:DAYLIGHT
BEGIN:STANDARD
TZOFFSETFROM:-0300
TZOFFSETTO:-0400
TZNAME:AST
DTSTART:20261101T050000
END:STANDARD
END:VTIMEZONE
BEGIN:VTIMEZONE
TZID:Asia/Dubai
BEGIN:STANDARD
TZOFFSETFROM:+0400
TZOFFSETTO:+0400
TZNAME:+04
DTSTART:20240101T000000
END:STANDARD
END:VTIMEZONE
BEGIN:VEVENT
DTSTART;TZID=UTC:20250528T150000
DTEND;TZID=UTC:20250528T150000
DTSTAMP:20260423T180659
CREATED:20250516T074201Z
LAST-MODIFIED:20250705T121509Z
UID:4593-1748444400-1748444400@mindfulmummie.com
SUMMARY:CELEBRATING THE POWER OF A MOTHER'S VOICE
DESCRIPTION:
URL:https://mindfulmummie.com/events/l/
LOCATION:Freeport Memorial Library\, Freeport New York\, NY\, United States
END:VEVENT
BEGIN:VEVENT
DTSTART;TZID=Europe/Paris:20250303T200000
DTEND;TZID=Europe/Paris:20250303T210000
DTSTAMP:20260423T180659
CREATED:20250303T142635Z
LAST-MODIFIED:20250705T121657Z
UID:4479-1741032000-1741035600@mindfulmummie.com
SUMMARY:LINKEDIN VISIBILITY CHALLENGE
DESCRIPTION:https://forms.gle/ntM5bEzh1vWAe9fN7
URL:https://mindfulmummie.com/events/linkedin-visibility-challenge/
LOCATION:LINKEDIN
END:VEVENT
BEGIN:VEVENT
DTSTART;TZID=UTC:20250222T100000
DTEND;TZID=UTC:20250222T170000
DTSTAMP:20260423T180659
CREATED:20250222T090219Z
LAST-MODIFIED:20250705T121728Z
UID:4381-1740218400-1740243600@mindfulmummie.com
SUMMARY:
DESCRIPTION:
URL:https://mindfulmummie.com/events/4381/
LOCATION:NY
END:VEVENT
BEGIN:VEVENT
DTSTART;TZID=UTC:20250208T100000
DTEND;TZID=UTC:20250208T120000
DTSTAMP:20260423T180659
CREATED:20250208T095721Z
LAST-MODIFIED:20250705T121829Z
UID:4277-1739008800-1739016000@mindfulmummie.com
SUMMARY:BUILDING A SUPPORT SYSTEM THAT WORKS FOR YOU
DESCRIPTION:https://meet.google.com/qrp-swrm-gvy
URL:https://mindfulmummie.com/events/building-a-support-system-that-works-for-you/
LOCATION:GOOGLE MEET\, FREEPORT\, NEW YORK\, NY\, United States
END:VEVENT
BEGIN:VEVENT
DTSTART;TZID=America/Halifax:20250125T103000
DTEND;TZID=America/Halifax:20250125T170000
DTSTAMP:20260423T180659
CREATED:20250125T120129Z
LAST-MODIFIED:20250125T122828Z
UID:4221-1737801000-1737824400@mindfulmummie.com
SUMMARY:Mindful mum's virtual hangout
DESCRIPTION:https://meet.google.com/qrp-swrm-gvyUNDERSTANDING INVESTMENTS \n 
URL:https://mindfulmummie.com/events/mindful-mums-virtual-hangout/
LOCATION:GOOGLE MEET\, FREEPORT\, NEW YORK\, NY\, United States
ATTACH;FMTTYPE=image/webp:https://mindfulmummie.com/wp-content/uploads/2025/01/IMG-20250124-WA0011.webp
END:VEVENT
BEGIN:VEVENT
DTSTART;TZID=Asia/Dubai:20250125T103000
DTEND;TZID=Asia/Dubai:20250125T130000
DTSTAMP:20260423T180659
CREATED:20250125T123230Z
LAST-MODIFIED:20250125T123230Z
UID:4233-1737801000-1737810000@mindfulmummie.com
SUMMARY:UNDERSTANDING INVESTMENTS
DESCRIPTION:https://meet.google.com/qrp-swrm-gvy
URL:https://mindfulmummie.com/events/understanding-investments/
LOCATION:GOOGLE MEET\, FREEPORT\, NEW YORK\, NY\, United States
ATTACH;FMTTYPE=image/webp:https://mindfulmummie.com/wp-content/uploads/2025/01/IMG-20250124-WA0011.webp
END:VEVENT
END:VCALENDAR